BEGIN:VCALENDAR
VERSION:2.0
PRODID:-//Tukios.com/
BEGIN:VEVENT
UID:472ce3b0-d477-4e1c-8120-e889a4d1fdde@www.elmsfh.com
DTSTAMP:20260422T021315Z
DTSTART:20260423T210000Z
DTEND:20260424T020000Z
SUMMARY:Visitation
DESCRIPTION:
URL:https://www.elmsfh.com/obituaries/thomas-detlefsen
LOCATION:Elms Funeral Home 7600 West Grand Avenue  Elmwood Park IL 60707
GEO:41.9264666;-87.8165549
END:VEVENT
END:VCALENDAR