BEGIN:VCALENDAR
VERSION:2.0
PRODID:-//Tukios.com/
BEGIN:VEVENT
UID:170a6f75-0b47-495c-8ab1-ac6f183de7a0@www.elmsfh.com
DTSTAMP:20260422T021418Z
DTSTART:20260424T160000Z
DTEND:20260424T170000Z
SUMMARY:Funeral Service
DESCRIPTION:
URL:https://www.elmsfh.com/obituaries/thomas-detlefsen
LOCATION: 7600 West Grand Avenue  Elmwood Park IL 60707
GEO:41.9264666;-87.8165549
END:VEVENT
END:VCALENDAR