BEGIN:VCALENDAR
VERSION:2.0
PRODID:-//Tukios.com/
BEGIN:VEVENT
UID:08004efa-bdf4-4a2d-82a3-8ca7d55b139e@www.elmsfh.com
DTSTAMP:20260421T011819Z
DTSTART:20260424
SUMMARY:Entombment
DESCRIPTION:Indoor Mausoleum, West Chapel
Gallery of the Covenant
Crypt 
	478, Tier 5
URL:https://www.elmsfh.com/obituaries/mary-metallo
LOCATION: 700 N River Rd  Des Plaines IL 60016
GEO:42.0620509;-87.8934075
END:VEVENT
END:VCALENDAR