BEGIN:VCALENDAR
VERSION:2.0
PRODID:-//Tukios.com/
BEGIN:VEVENT
UID:add81be2-cbd3-4a4a-9289-cd795b9116e8@www.elmsfh.com
DTSTAMP:20260421T012203Z
DTSTART:20260424T150000Z
DTEND:20260424T160000Z
SUMMARY:Funeral Service
DESCRIPTION:
URL:https://www.elmsfh.com/obituaries/mary-metallo
LOCATION:All Saints Cemetery, Indoor Mausoleum, West Chapel 700 North 
	River Road  Des Plaines IL 60016
GEO:42.0626159;-87.8930184
END:VEVENT
END:VCALENDAR